BEGIN:VCALENDAR
VERSION:2.0
PRODID:-//ChamberMaster//Event Calendar 2.0//EN
METHOD:PUBLISH
X-PUBLISHED-TTL:P3D
REFRESH-INTERVAL:P3D
CALSCALE:GREGORIAN
BEGIN:VEVENT
DTSTART:20190518T130000Z
DTEND:20190518T203000Z
X-MICROSOFT-CDO-ALLDAYEVENT:FALSE
SUMMARY:Coupons for Soldiers
DESCRIPTION:Did you know that manufacturer's coupons expired in the U.S. can still be used by overseas military members?\n\n\n\n\n\nDrop by the Beaufort Branch Library to help clip\, sort\, and bag coupons to prepare for shipping any time within the specified time frame.
X-ALT-DESC;FMTTYPE=text/html:<span style="font-family: Verdana\, Geneva\, sans-serif\; font-size: 14.666666984558105px\; background-color: rgb(255\, 255\, 255)\;">&nbsp\; &nbsp\;Did you know that manufacturer&#39\;s coupons expired in the U.S. can still be used by overseas military members?</span><br style="font-family: Verdana\, Geneva\, sans-serif\; font-size: 14.666666984558105px\;" />\n<br style="font-family: Verdana\, Geneva\, sans-serif\; font-size: 14.666666984558105px\;" />\n<br style="font-family: Verdana\, Geneva\, sans-serif\; font-size: 14.666666984558105px\;" />\n<span style="font-family: Verdana\, Geneva\, sans-serif\; font-size: 14.666666984558105px\; background-color: rgb(255\, 255\, 255)\;">Drop by the Beaufort Branch Library to help clip\, sort\, and bag coupons to prepare for shipping any time within the specified time frame.</span>
LOCATION:Beaufort County Library
UID:e.1212.11575
SEQUENCE:3
DTSTAMP:20260422T175103Z
URL:https://business.beaufortchamber.org/events/details/coupons-for-soldiers-11575
END:VEVENT

END:VCALENDAR
