BEGIN:VCALENDAR
VERSION:2.0
PRODID:-//ChamberMaster//Event Calendar 2.0//EN
METHOD:PUBLISH
X-PUBLISHED-TTL:P3D
REFRESH-INTERVAL:P3D
CALSCALE:GREGORIAN
BEGIN:VEVENT
DTSTART;VALUE=DATE:20080303
DTEND;VALUE=DATE:20080304
TRANSP:TRANSPARENT
X-MICROSOFT-CDO-ALLDAYEVENT:TRUE
SUMMARY:Crochet Basics Class
DESCRIPTION:Four part series: March 3\, 10\,17\,24.  Learn basic stitches.  All supplies provided.  Call or email to \nreserve your space.  Fee  $50.
X-ALT-DESC;FMTTYPE=text/html:Four part series: March 3\, 10\,17\,24.  Learn basic stitches.  All supplies provided.  Call or email to \nreserve your space.  Fee  $50.
LOCATION:
UID:e.1212.2222
SEQUENCE:3
DTSTAMP:20260425T024433Z
URL:https://business.beaufortchamber.org/events/details/crochet-basics-class-03-03-2008-2222
END:VEVENT

END:VCALENDAR
