BEGIN:VCALENDAR
VERSION:2.0
PRODID:-//ChamberMaster//Event Calendar 2.0//EN
METHOD:PUBLISH
X-PUBLISHED-TTL:P3D
REFRESH-INTERVAL:P3D
CALSCALE:GREGORIAN
BEGIN:VEVENT
DTSTART;VALUE=DATE:20081118
DTEND;VALUE=DATE:20081119
TRANSP:TRANSPARENT
X-MICROSOFT-CDO-ALLDAYEVENT:TRUE
SUMMARY:Customer Service & Teamwork: A Store Manager's Perspective
DESCRIPTION:Bill Bradshaw of Bi-Lo Supermarkets will present "A Store Manager's Perspective" on customer service and teamwork.  In this program participants will learn the importance of good customer service and the value of teamwork.  Please RSVP by Friday\, November 14.   Members $5  Non-Members $15.
X-ALT-DESC;FMTTYPE=text/html:Bill Bradshaw of Bi-Lo Supermarkets will present "A Store Manager's Perspective" on customer service and teamwork.  In this program participants will learn the importance of good customer service and the value of teamwork.  Please RSVP by Friday\, November 14.   Members $5  Non-Members $15.
LOCATION:
UID:e.1212.2700
SEQUENCE:3
DTSTAMP:20260425T151621Z
URL:https://business.beaufortchamber.org/events/details/customer-service-teamwork-a-store-manager-s-perspective-11-18-2008-2700
END:VEVENT

END:VCALENDAR
