BEGIN:VCALENDAR
VERSION:2.0
PRODID:-//ChamberMaster//Event Calendar 2.0//EN
METHOD:PUBLISH
X-PUBLISHED-TTL:P3D
REFRESH-INTERVAL:P3D
CALSCALE:GREGORIAN
BEGIN:VEVENT
DTSTART;VALUE=DATE:20080329
DTEND;VALUE=DATE:20080330
TRANSP:TRANSPARENT
X-MICROSOFT-CDO-ALLDAYEVENT:TRUE
SUMMARY:Democratic Annual Oyster Roast
DESCRIPTION:The Northern Beaufort County Democratic Club will host the annual Donkey Oyster Roast.  Speakers \nwill include Democratic candidates for state and county offices.  Tickets:  $15\, 2 for $25\, $10 for children\nunder 12.  Tickets and information:  Call the numbers listed or  Anne Pollitzer 838-2183\, Ted Humphrey 252-9439\, Marion Gamache 525-0557.  In Sun City:  Pat Goodman 263-7972.  In Bluffton/Hilton Head:\nDavid Rice 757-7505.
X-ALT-DESC;FMTTYPE=text/html:The Northern Beaufort County Democratic Club will host the annual Donkey Oyster Roast.  Speakers \nwill include Democratic candidates for state and county offices.  Tickets:  $15\, 2 for $25\, $10 for children\nunder 12.  Tickets and information:  Call the numbers listed or  Anne Pollitzer 838-2183\, Ted Humphrey 252-9439\, Marion Gamache 525-0557.  In Sun City:  Pat Goodman 263-7972.  In Bluffton/Hilton Head:\nDavid Rice 757-7505.
LOCATION:
UID:e.1212.2278
SEQUENCE:3
DTSTAMP:20260425T041930Z
URL:https://business.beaufortchamber.org/events/details/democratic-annual-oyster-roast-03-29-2008-2278
END:VEVENT

END:VCALENDAR
