BEGIN:VCALENDAR
VERSION:2.0
PRODID:-//ChamberMaster//Event Calendar 2.0//EN
METHOD:PUBLISH
X-PUBLISHED-TTL:P3D
REFRESH-INTERVAL:P3D
CALSCALE:GREGORIAN
BEGIN:VEVENT
DTSTART;VALUE=DATE:20080701
DTEND;VALUE=DATE:20080702
TRANSP:TRANSPARENT
X-MICROSOFT-CDO-ALLDAYEVENT:TRUE
SUMMARY:Destination Beaufort Visitor & Relocation Guide
DESCRIPTION:
X-ALT-DESC;FMTTYPE=text/html:
LOCATION:
UID:e.1212.2563
SEQUENCE:3
DTSTAMP:20260425T105530Z
URL:https://business.beaufortchamber.org/events/details/destination-beaufort-visitor-relocation-guide-07-01-2008-2563
END:VEVENT

END:VCALENDAR
