BEGIN:VCALENDAR
VERSION:2.0
PRODID:-//ChamberMaster//Event Calendar 2.0//EN
METHOD:PUBLISH
X-PUBLISHED-TTL:P3D
REFRESH-INTERVAL:P3D
CALSCALE:GREGORIAN
BEGIN:VEVENT
DTSTART;VALUE=DATE:20081107
DTEND;VALUE=DATE:20081108
TRANSP:TRANSPARENT
X-MICROSOFT-CDO-ALLDAYEVENT:TRUE
SUMMARY:Destination - Bluffton\, South Caroliina
DESCRIPTION:Please join us for a "Meet and Greet" of other residents who are new to the area.  Bluffton natives welcome too!    It's all about bringing people together to  "SMILE"  -- Surround\, Meet\, Involve\, Learn and Enjoy!  \nFood items available by menu.
X-ALT-DESC;FMTTYPE=text/html:Please join us for a "Meet and Greet" of other residents who are new to the area.  Bluffton natives welcome too!    It's all about bringing people together to  "SMILE"  -- Surround\, Meet\, Involve\, Learn and Enjoy!  \nFood items available by menu.
LOCATION:
UID:e.1212.2782
SEQUENCE:3
DTSTAMP:20260425T150245Z
URL:https://business.beaufortchamber.org/events/details/destination-bluffton-south-caroliina-11-07-2008-2782
END:VEVENT

END:VCALENDAR
