BEGIN:VCALENDAR
VERSION:2.0
PRODID:-//ChamberMaster//Event Calendar 2.0//EN
METHOD:PUBLISH
X-PUBLISHED-TTL:P3D
REFRESH-INTERVAL:P3D
CALSCALE:GREGORIAN
BEGIN:VEVENT
DTSTART;VALUE=DATE:20080326
DTEND;VALUE=DATE:20080327
TRANSP:TRANSPARENT
X-MICROSOFT-CDO-ALLDAYEVENT:TRUE
SUMMARY:Developing Your Artist Portfolio: Artist Statement
DESCRIPTION:Presenters\, Deanna Bowdish and Lisa Annelouise Rentz.  Call to reserve your seat.  Free.
X-ALT-DESC;FMTTYPE=text/html:Presenters\, Deanna Bowdish and Lisa Annelouise Rentz.  Call to reserve your seat.  Free.
LOCATION:
UID:e.1212.2185
SEQUENCE:3
DTSTAMP:20260425T024011Z
URL:https://business.beaufortchamber.org/events/details/developing-your-artist-portfolio-artist-statement-03-26-2008-2185
END:VEVENT

END:VCALENDAR
