BEGIN:VCALENDAR
VERSION:2.0
PRODID:-//ChamberMaster//Event Calendar 2.0//EN
METHOD:PUBLISH
X-PUBLISHED-TTL:P3D
REFRESH-INTERVAL:P3D
CALSCALE:GREGORIAN
BEGIN:VEVENT
DTSTART;VALUE=DATE:20080312
DTEND;VALUE=DATE:20080313
TRANSP:TRANSPARENT
X-MICROSOFT-CDO-ALLDAYEVENT:TRUE
SUMMARY:Developing Your Artist Portfolio: Digital Photography
DESCRIPTION:Presenters\, M. A. Mueller and Deanna Bowdish.  Call to reserve a seat.  Free.
X-ALT-DESC;FMTTYPE=text/html:Presenters\, M. A. Mueller and Deanna Bowdish.  Call to reserve a seat.  Free.
LOCATION:
UID:e.1212.2184
SEQUENCE:3
DTSTAMP:20260425T024655Z
URL:https://business.beaufortchamber.org/events/details/developing-your-artist-portfolio-digital-photography-03-12-2008-2184
END:VEVENT

END:VCALENDAR
