BEGIN:VCALENDAR
VERSION:2.0
PRODID:-//ChamberMaster//Event Calendar 2.0//EN
METHOD:PUBLISH
X-PUBLISHED-TTL:P3D
REFRESH-INTERVAL:P3D
CALSCALE:GREGORIAN
BEGIN:VEVENT
DTSTART;VALUE=DATE:20080222
DTEND;VALUE=DATE:20080223
TRANSP:TRANSPARENT
X-MICROSOFT-CDO-ALLDAYEVENT:TRUE
SUMMARY:Developing Your Artist Portfolio: Matting & Framing
DESCRIPTION:Presenter\, Hank Herring.  Call to reserve a seat.  Free.
X-ALT-DESC;FMTTYPE=text/html:Presenter\, Hank Herring.  Call to reserve a seat.  Free.
LOCATION:
UID:e.1212.2183
SEQUENCE:3
DTSTAMP:20260425T022532Z
URL:https://business.beaufortchamber.org/events/details/developing-your-artist-portfolio-matting-framing-02-22-2008-2183
END:VEVENT

END:VCALENDAR
