BEGIN:VCALENDAR
VERSION:2.0
PRODID:-//ChamberMaster//Event Calendar 2.0//EN
METHOD:PUBLISH
X-PUBLISHED-TTL:P3D
REFRESH-INTERVAL:P3D
CALSCALE:GREGORIAN
BEGIN:VEVENT
DTSTART;VALUE=DATE:20080214
DTEND;VALUE=DATE:20080215
TRANSP:TRANSPARENT
X-MICROSOFT-CDO-ALLDAYEVENT:TRUE
SUMMARY:DRUM
DESCRIPTION:DRUM\, a Nova Scotia musical production\, brings together four difference cultures and\, through the common theme of drumming and percussion\, reveals their close relationship.  Call 843.521.4145 for ticket information and other questions.
X-ALT-DESC;FMTTYPE=text/html:DRUM\, a Nova Scotia musical production\, brings together four difference cultures and\, through the common theme of drumming and percussion\, reveals their close relationship.  Call 843.521.4145 for ticket information and other questions.
LOCATION:
UID:e.1212.1606
SEQUENCE:3
DTSTAMP:20260425T010210Z
URL:https://business.beaufortchamber.org/events/details/drum-02-14-2008-1606
END:VEVENT

END:VCALENDAR
