BEGIN:VCALENDAR
VERSION:2.0
PRODID:-//ChamberMaster//Event Calendar 2.0//EN
METHOD:PUBLISH
X-PUBLISHED-TTL:P3D
REFRESH-INTERVAL:P3D
CALSCALE:GREGORIAN
BEGIN:VEVENT
DTSTART;VALUE=DATE:20080329
DTEND;VALUE=DATE:20080330
TRANSP:TRANSPARENT
X-MICROSOFT-CDO-ALLDAYEVENT:TRUE
SUMMARY:Duke Symphony Concert
DESCRIPTION:Benefits go towards the Healing Arts at the Keyserling Cancer Center.  General admission:  $30 and\npatron tickets:  $75 which include premium seating and the conductor's reception following the \nperformance.  To purchase tickets or for more information\, call the Beaufort Memorial Hospital  or visit\nthe website.
X-ALT-DESC;FMTTYPE=text/html:Benefits go towards the Healing Arts at the Keyserling Cancer Center.  General admission:  $30 and\npatron tickets:  $75 which include premium seating and the conductor's reception following the \nperformance.  To purchase tickets or for more information\, call the Beaufort Memorial Hospital  or visit\nthe website.
LOCATION:
UID:e.1212.2024
SEQUENCE:3
DTSTAMP:20260425T024550Z
URL:https://business.beaufortchamber.org/events/details/duke-symphony-concert-03-29-2008-2024
END:VEVENT

END:VCALENDAR
