BEGIN:VCALENDAR
VERSION:2.0
PRODID:-//ChamberMaster//Event Calendar 2.0//EN
METHOD:PUBLISH
X-PUBLISHED-TTL:P3D
REFRESH-INTERVAL:P3D
CALSCALE:GREGORIAN
BEGIN:VEVENT
DTSTART;VALUE=DATE:20080701
DTEND;VALUE=DATE:20080702
TRANSP:TRANSPARENT
X-MICROSOFT-CDO-ALLDAYEVENT:TRUE
SUMMARY:Economic Development Committee Meeting
DESCRIPTION:For more information\, call the Beaufort Regional Chamber of Commerce at the number below.
X-ALT-DESC;FMTTYPE=text/html:For more information\, call the Beaufort Regional Chamber of Commerce at the number below.
LOCATION:
UID:e.1212.1933
SEQUENCE:3
DTSTAMP:20260425T105428Z
URL:https://business.beaufortchamber.org/events/details/economic-development-committee-meeting-07-01-2008-1933
END:VEVENT

END:VCALENDAR
