BEGIN:VCALENDAR
VERSION:2.0
PRODID:-//ChamberMaster//Event Calendar 2.0//EN
METHOD:PUBLISH
X-PUBLISHED-TTL:P3D
REFRESH-INTERVAL:P3D
CALSCALE:GREGORIAN
BEGIN:VEVENT
DTSTART;VALUE=DATE:20080416
DTEND;VALUE=DATE:20080417
TRANSP:TRANSPARENT
X-MICROSOFT-CDO-ALLDAYEVENT:TRUE
SUMMARY:Editing Techniques
DESCRIPTION:How to make your work publishing-ready\, cover letters and summaries with local writers Sally Drumm and\nGail Westerfield.  Free.  Please RSVP to Colleen at the Arts Council.
X-ALT-DESC;FMTTYPE=text/html:How to make your work publishing-ready\, cover letters and summaries with local writers Sally Drumm and\nGail Westerfield.  Free.  Please RSVP to Colleen at the Arts Council.
LOCATION:
UID:e.1212.2263
SEQUENCE:3
DTSTAMP:20260425T040904Z
URL:https://business.beaufortchamber.org/events/details/editing-techniques-04-16-2008-2263
END:VEVENT

END:VCALENDAR
