BEGIN:VCALENDAR
VERSION:2.0
PRODID:-//ChamberMaster//Event Calendar 2.0//EN
METHOD:PUBLISH
X-PUBLISHED-TTL:P3D
REFRESH-INTERVAL:P3D
CALSCALE:GREGORIAN
BEGIN:VEVENT
DTSTART;VALUE=DATE:20081002
DTEND;VALUE=DATE:20081003
TRANSP:TRANSPARENT
X-MICROSOFT-CDO-ALLDAYEVENT:TRUE
SUMMARY:Education-Workforce Development Committee
DESCRIPTION:
X-ALT-DESC;FMTTYPE=text/html:
LOCATION:
UID:e.1212.3124
SEQUENCE:3
DTSTAMP:20260425T133418Z
URL:https://business.beaufortchamber.org/events/details/education-workforce-development-committee-10-02-2008-3124
END:VEVENT

END:VCALENDAR
