BEGIN:VCALENDAR
VERSION:2.0
PRODID:-//ChamberMaster//Event Calendar 2.0//EN
METHOD:PUBLISH
X-PUBLISHED-TTL:P3D
REFRESH-INTERVAL:P3D
CALSCALE:GREGORIAN
BEGIN:VEVENT
DTSTART;VALUE=DATE:20071130
DTEND;VALUE=DATE:20071201
TRANSP:TRANSPARENT
X-MICROSOFT-CDO-ALLDAYEVENT:TRUE
SUMMARY:Exhibit
DESCRIPTION:"The 2008 Invitational is a multi-media show of work by fifteen Lowcountry artists and photographers\, all presenting new work built around their own concept of the Essence of Beaufort. The scenes will be varied\, the colors abundant\, and the essence of Beaufort finely distilled. \n\nThe 15 Artists:  Eric Horan\, Gary Geboy\, Joshua Savage Gibson\, Paul Keyserling\, Jim Rothnie\, Benton Lutz\, Betsy Chaffin\, Lynn Brown\, Alexandra Sharma\, Sharon DeAlexandris\, Cabell Heyward\, Rebecca Davenport\, Kathy Crowther\, Susan Graber\, Priscilla Coleman.\n\nCharles Street Gallery is an established source for Lowcountry and international art\, presented within a carefully renovated house surrounded by a lush garden in the middle of Beaufort's historic district."
X-ALT-DESC;FMTTYPE=text/html:"The 2008 Invitational is a multi-media show of work by fifteen Lowcountry artists and photographers\, all presenting new work built around their own concept of the Essence of Beaufort. The scenes will be varied\, the colors abundant\, and the essence of Beaufort finely distilled. \n\nThe 15 Artists:  Eric Horan\, Gary Geboy\, Joshua Savage Gibson\, Paul Keyserling\, Jim Rothnie\, Benton Lutz\, Betsy Chaffin\, Lynn Brown\, Alexandra Sharma\, Sharon DeAlexandris\, Cabell Heyward\, Rebecca Davenport\, Kathy Crowther\, Susan Graber\, Priscilla Coleman.\n\nCharles Street Gallery is an established source for Lowcountry and international art\, presented within a carefully renovated house surrounded by a lush garden in the middle of Beaufort's historic district."\n\n
LOCATION:Beaufort Historic District
UID:e.1212.1984
SEQUENCE:3
DTSTAMP:20260424T211016Z
URL:https://business.beaufortchamber.org/events/details/exhibit-11-30-2007-1984
END:VEVENT

END:VCALENDAR
