BEGIN:VCALENDAR
VERSION:2.0
PRODID:-//ChamberMaster//Event Calendar 2.0//EN
METHOD:PUBLISH
X-PUBLISHED-TTL:P3D
REFRESH-INTERVAL:P3D
CALSCALE:GREGORIAN
BEGIN:VEVENT
DTSTART;VALUE=DATE:20080911
DTEND;VALUE=DATE:20080912
TRANSP:TRANSPARENT
X-MICROSOFT-CDO-ALLDAYEVENT:TRUE
SUMMARY:Expo Sponsor
DESCRIPTION:
X-ALT-DESC;FMTTYPE=text/html:
LOCATION:
UID:e.1212.2654
SEQUENCE:3
DTSTAMP:20260425T122058Z
URL:https://business.beaufortchamber.org/events/details/expo-sponsor-09-11-2008-2654
END:VEVENT

END:VCALENDAR
