BEGIN:VCALENDAR
VERSION:2.0
PRODID:-//ChamberMaster//Event Calendar 2.0//EN
METHOD:PUBLISH
X-PUBLISHED-TTL:P3D
REFRESH-INTERVAL:P3D
CALSCALE:GREGORIAN
BEGIN:VEVENT
DTSTART;VALUE=DATE:20081024
DTEND;VALUE=DATE:20081025
TRANSP:TRANSPARENT
X-MICROSOFT-CDO-ALLDAYEVENT:TRUE
SUMMARY:Fall Festival of Houses & Gardens
DESCRIPTION:Candlelight walking tour of The Old Point.  Tickets:  $40.  Tour times: 5 pm-8 pm or 5:30 pm-8:30 pm.
X-ALT-DESC;FMTTYPE=text/html:Candlelight walking tour of The Old Point.  Tickets:  $40.  Tour times: 5 pm-8 pm or 5:30 pm-8:30 pm.
LOCATION:
UID:e.1212.1499
SEQUENCE:3
DTSTAMP:20260425T140319Z
URL:https://business.beaufortchamber.org/events/details/fall-festival-of-houses-gardens-10-24-2008-1499
END:VEVENT

END:VCALENDAR
