BEGIN:VCALENDAR
VERSION:2.0
PRODID:-//ChamberMaster//Event Calendar 2.0//EN
METHOD:PUBLISH
X-PUBLISHED-TTL:P3D
REFRESH-INTERVAL:P3D
CALSCALE:GREGORIAN
BEGIN:VEVENT
DTSTART;VALUE=DATE:20081025
DTEND;VALUE=DATE:20081026
TRANSP:TRANSPARENT
X-MICROSOFT-CDO-ALLDAYEVENT:TRUE
SUMMARY:Fall Festival of Houses & Gardens
DESCRIPTION:Ramble around Beaufort in the historic district and the lowcountry.  Tour times:  10 am - 3 pm or\n11 am - 4 pm.  Tickets:  $40.  Box lunch available from 11 am - 1 pm for $15.
X-ALT-DESC;FMTTYPE=text/html:Ramble around Beaufort in the historic district and the lowcountry.  Tour times:  10 am - 3 pm or\n11 am - 4 pm.  Tickets:  $40.  Box lunch available from 11 am - 1 pm for $15.
LOCATION:
UID:e.1212.1500
SEQUENCE:3
DTSTAMP:20260425T140252Z
URL:https://business.beaufortchamber.org/events/details/fall-festival-of-houses-gardens-10-25-2008-1500
END:VEVENT

END:VCALENDAR
