BEGIN:VCALENDAR
VERSION:2.0
PRODID:-//ChamberMaster//Event Calendar 2.0//EN
METHOD:PUBLISH
X-PUBLISHED-TTL:P3D
REFRESH-INTERVAL:P3D
CALSCALE:GREGORIAN
BEGIN:VEVENT
DTSTART;VALUE=DATE:20081026
DTEND;VALUE=DATE:20081027
TRANSP:TRANSPARENT
X-MICROSOFT-CDO-ALLDAYEVENT:TRUE
SUMMARY:Fall Festival of Houses & Gardens
DESCRIPTION:Kitchens & Cuisine.  Tour times:  Noon - 3 pm or 12:30 pm - 3:30 pm.  Tickets:  $40 each.
X-ALT-DESC;FMTTYPE=text/html:Kitchens & Cuisine.  Tour times:  Noon - 3 pm or 12:30 pm - 3:30 pm.  Tickets:  $40 each.
LOCATION:
UID:e.1212.1501
SEQUENCE:3
DTSTAMP:20260425T140329Z
URL:https://business.beaufortchamber.org/events/details/fall-festival-of-houses-gardens-10-26-2008-1501
END:VEVENT

END:VCALENDAR
