BEGIN:VCALENDAR
VERSION:2.0
PRODID:-//ChamberMaster//Event Calendar 2.0//EN
METHOD:PUBLISH
X-PUBLISHED-TTL:P3D
REFRESH-INTERVAL:P3D
CALSCALE:GREGORIAN
BEGIN:VEVENT
DTSTART;VALUE=DATE:20080712
DTEND;VALUE=DATE:20080713
TRANSP:TRANSPARENT
X-MICROSOFT-CDO-ALLDAYEVENT:TRUE
SUMMARY:Family Promise Community Day
DESCRIPTION:Family Promise of Beaufort County invites you\, your family\, and friends to Community Day.\n\nThe center\, staff\, and program will be introduced to the community. \n\n The Family Promise program will begin July 13.
X-ALT-DESC;FMTTYPE=text/html:Family Promise of Beaufort County invites you\, your family\, and friends to Community Day.<BR><BR>The center\, staff\, and program will be introduced to the community. <BR><BR> The Family Promise program will begin July 13.
LOCATION:Bluffton
UID:e.1212.2574
SEQUENCE:3
DTSTAMP:20260425T105812Z
URL:https://business.beaufortchamber.org/events/details/family-promise-community-day-07-12-2008-2574
END:VEVENT

END:VCALENDAR
