BEGIN:VCALENDAR
VERSION:2.0
PRODID:-//ChamberMaster//Event Calendar 2.0//EN
METHOD:PUBLISH
X-PUBLISHED-TTL:P3D
REFRESH-INTERVAL:P3D
CALSCALE:GREGORIAN
BEGIN:VEVENT
DTSTART:20200307T180000Z
DTEND:20200307T210000Z
X-MICROSOFT-CDO-ALLDAYEVENT:FALSE
SUMMARY:Fancy and Free Prom Boutique
DESCRIPTION:The Junior Service League of Beaufort's Annual Prom Boutique is an event designed to help the high school girls of Beaufort\, Jasper\, and Hampton Counties afford a fabulous prom dress.  Each girl has the opportunity to pick out a gently used dress and matching accessories to wear for her Junior/Senior Prom for free.  All local female students are welcome to attend the event.\n\nFor more details and information\, please visit:\n\nwww.jslbprom.com
X-ALT-DESC;FMTTYPE=text/html:The Junior Service League of Beaufort&#39\;s Annual Prom Boutique is an event designed to help the high school girls of Beaufort\, Jasper\, and Hampton Counties afford a fabulous prom dress.&nbsp\; Each girl has the opportunity to pick out a gently used dress and matching accessories to wear for her Junior/Senior Prom for free.&nbsp\; All local female students are welcome to attend the event.<br />\nFor more details and information\, please visit:<br />\nwww.jslbprom.com
LOCATION:Beaufort-Jasper YMCA of the Lowcountry 1801 Richmond Avenue Port Royal\, SC 29935
UID:e.1212.12493
SEQUENCE:3
DTSTAMP:20260420T152821Z
URL:https://business.beaufortchamber.org/events/details/fancy-and-free-prom-boutique-12493
END:VEVENT

END:VCALENDAR
