BEGIN:VCALENDAR
VERSION:2.0
PRODID:-//ChamberMaster//Event Calendar 2.0//EN
METHOD:PUBLISH
X-PUBLISHED-TTL:P3D
REFRESH-INTERVAL:P3D
CALSCALE:GREGORIAN
BEGIN:VEVENT
DTSTART;VALUE=DATE:20080708
DTEND;VALUE=DATE:20080709
TRANSP:TRANSPARENT
X-MICROSOFT-CDO-ALLDAYEVENT:TRUE
SUMMARY:Farmer's Market
DESCRIPTION:Food\, fun and entertainment.  The Farmer's Market is open Saturday mornings and Tuesday afternoons.
X-ALT-DESC;FMTTYPE=text/html:Food\, fun and entertainment.  The Farmer's Market is open Saturday mornings and Tuesday afternoons.\n
LOCATION:Port Royal
UID:e.1212.2580
SEQUENCE:3
DTSTAMP:20260425T105553Z
URL:https://business.beaufortchamber.org/events/details/farmer-s-market-07-08-2008-2580
END:VEVENT

END:VCALENDAR
