BEGIN:VCALENDAR
VERSION:2.0
PRODID:-//ChamberMaster//Event Calendar 2.0//EN
METHOD:PUBLISH
X-PUBLISHED-TTL:P3D
REFRESH-INTERVAL:P3D
CALSCALE:GREGORIAN
BEGIN:VEVENT
DTSTART;VALUE=DATE:20071204
DTEND;VALUE=DATE:20071205
TRANSP:TRANSPARENT
X-MICROSOFT-CDO-ALLDAYEVENT:TRUE
SUMMARY:Festival of Trees 2007
DESCRIPTION:Admission: $3/adult\, $1/child 3-12\n\nFor more information\, to purchase tickets\, or to volunteer\, contact Karen Harvey at 843.524.3255 or 843.263.2904.\n\nThe exhibit  is open for scheduled school visits from 9 - 11 a.m on Dec. 5th - 7th.  Contact Karen Harvey at 843.524.3255 for more information
X-ALT-DESC;FMTTYPE=text/html:Admission: $3/adult\, $1/child 3-12\n\nFor more information\, to purchase tickets\, or to volunteer\, contact Karen Harvey at 843.524.3255 or 843.263.2904.\n\n<b>The exhibit  is open for scheduled school visits from 9 - 11 a.m on Dec. 5th - 7th.  Contact Karen Harvey at 843.524.3255 for more information</b>
LOCATION:
UID:e.1212.1310
SEQUENCE:3
DTSTAMP:20260424T221447Z
URL:https://business.beaufortchamber.org/events/details/festival-of-trees-2007-12-04-2007-1310
END:VEVENT

END:VCALENDAR
