BEGIN:VCALENDAR
VERSION:2.0
PRODID:-//ChamberMaster//Event Calendar 2.0//EN
METHOD:PUBLISH
X-PUBLISHED-TTL:P3D
REFRESH-INTERVAL:P3D
CALSCALE:GREGORIAN
BEGIN:VEVENT
DTSTART;VALUE=DATE:20071208
DTEND;VALUE=DATE:20071209
TRANSP:TRANSPARENT
X-MICROSOFT-CDO-ALLDAYEVENT:TRUE
SUMMARY:Festival of Trees 2007
DESCRIPTION:NOTE: Saturday's hours are different than Monday - Friday.
X-ALT-DESC;FMTTYPE=text/html:NOTE: Saturday's hours are different than Monday - Friday.
LOCATION:
UID:e.1212.1387
SEQUENCE:3
DTSTAMP:20260424T222222Z
URL:https://business.beaufortchamber.org/events/details/festival-of-trees-2007-12-08-2007-1387
END:VEVENT

END:VCALENDAR
