BEGIN:VCALENDAR
VERSION:2.0
PRODID:-//ChamberMaster//Event Calendar 2.0//EN
METHOD:PUBLISH
X-PUBLISHED-TTL:P3D
REFRESH-INTERVAL:P3D
CALSCALE:GREGORIAN
BEGIN:VEVENT
DTSTART:20181204T190000Z
DTEND:20181205T000000Z
X-MICROSOFT-CDO-ALLDAYEVENT:FALSE
SUMMARY:Festival of Trees 2018
DESCRIPTION:Open to the public/school tours. Come and see the decorated trees!\n\nGeneral Admission is $5 for adults and $3 for children
X-ALT-DESC;FMTTYPE=text/html:Open to the public/school tours. Come and see the decorated trees!<br />\nGeneral Admission is $5 for adults and $3 for children
LOCATION:Tabby Place Port Republic Street\, Beaufort
UID:e.1212.10326
SEQUENCE:3
DTSTAMP:20260423T011028Z
URL:https://business.beaufortchamber.org/events/details/festival-of-trees-2018-12-04-2018-10326
END:VEVENT

END:VCALENDAR
