BEGIN:VCALENDAR
VERSION:2.0
PRODID:-//ChamberMaster//Event Calendar 2.0//EN
METHOD:PUBLISH
X-PUBLISHED-TTL:P3D
REFRESH-INTERVAL:P3D
CALSCALE:GREGORIAN
BEGIN:VEVENT
DTSTART;VALUE=DATE:20071203
DTEND;VALUE=DATE:20071204
TRANSP:TRANSPARENT
X-MICROSOFT-CDO-ALLDAYEVENT:TRUE
SUMMARY:Festival of Trees Opening Reception
DESCRIPTION:TIME TO BE ANNOUNCED \n\n$35/ticket
X-ALT-DESC;FMTTYPE=text/html:<b>TIME TO BE ANNOUNCED</B> \n\n$35/ticket\n\n
LOCATION:
UID:e.1212.1309
SEQUENCE:3
DTSTAMP:20260424T222303Z
URL:https://business.beaufortchamber.org/events/details/festival-of-trees-opening-reception-12-03-2007-1309
END:VEVENT

END:VCALENDAR
