BEGIN:VCALENDAR
VERSION:2.0
PRODID:-//ChamberMaster//Event Calendar 2.0//EN
METHOD:PUBLISH
X-PUBLISHED-TTL:P3D
REFRESH-INTERVAL:P3D
CALSCALE:GREGORIAN
BEGIN:VEVENT
DTSTART;VALUE=DATE:20080101
DTEND;VALUE=DATE:20080102
TRANSP:TRANSPARENT
X-MICROSOFT-CDO-ALLDAYEVENT:TRUE
SUMMARY:First Annual John FM New Year's Celebration Gala
DESCRIPTION:$50/person in advance\, $75 after December 15th\; tickets sold at Hilton Head Island Beach   includes\; party favors\, light hors d'oeuvres\, champagne toast\, a breakfast buffet after midnight and live entertainment by the SugarBees\, featuring Ceasar\; "dress to impress"
X-ALT-DESC;FMTTYPE=text/html:$50/person in advance\, $75 after December 15th\; tickets sold at Hilton Head Island Beach & Tennis Resort gift shop and John FM Studios\; includes\; party favors\, light hors d'oeuvres\, champagne toast\, a breakfast buffet after midnight and live entertainment by the SugarBees\, featuring Ceasar\; <i>"dress to impress"</i>
LOCATION:Hilton Head Island
UID:e.1212.2041
SEQUENCE:3
DTSTAMP:20260424T234134Z
URL:https://business.beaufortchamber.org/events/details/first-annual-john-fm-new-year-s-celebration-gala-01-01-2008-2041
END:VEVENT

END:VCALENDAR
