BEGIN:VCALENDAR
VERSION:2.0
PRODID:-//ChamberMaster//Event Calendar 2.0//EN
METHOD:PUBLISH
X-PUBLISHED-TTL:P3D
REFRESH-INTERVAL:P3D
CALSCALE:GREGORIAN
BEGIN:VEVENT
DTSTART;VALUE=DATE:20080318
DTEND;VALUE=DATE:20080319
TRANSP:TRANSPARENT
X-MICROSOFT-CDO-ALLDAYEVENT:TRUE
SUMMARY:Flower Arranging Class
DESCRIPTION:Betty Betz will be conducting the class.  Please call for information.
X-ALT-DESC;FMTTYPE=text/html:Betty Betz will be conducting the class.  Please call for information.
LOCATION:
UID:e.1212.2344
SEQUENCE:3
DTSTAMP:20260425T023904Z
URL:https://business.beaufortchamber.org/events/details/flower-arranging-class-03-18-2008-2344
END:VEVENT

END:VCALENDAR
