BEGIN:VCALENDAR
VERSION:2.0
PRODID:-//ChamberMaster//Event Calendar 2.0//EN
METHOD:PUBLISH
X-PUBLISHED-TTL:P3D
REFRESH-INTERVAL:P3D
CALSCALE:GREGORIAN
BEGIN:VEVENT
DTSTART:20190516T130000Z
DTEND:20190516T210000Z
X-MICROSOFT-CDO-ALLDAYEVENT:FALSE
SUMMARY:Flower Show
DESCRIPTION:A horticulture Specialty Show\, free to the public\, presented by the Beaufort Council of Garden Club.
X-ALT-DESC;FMTTYPE=text/html:A horticulture Specialty Show\, free to the public\, presented by the Beaufort Council of Garden Club.
LOCATION:Tabby Place\, 913 Port Republic Street\, Beaufort\, SC
UID:e.1212.10767
SEQUENCE:3
DTSTAMP:20260422T174922Z
URL:https://business.beaufortchamber.org/events/details/flower-show-10767
END:VEVENT

END:VCALENDAR
