BEGIN:VCALENDAR
VERSION:2.0
PRODID:-//ChamberMaster//Event Calendar 2.0//EN
METHOD:PUBLISH
X-PUBLISHED-TTL:P3D
REFRESH-INTERVAL:P3D
CALSCALE:GREGORIAN
BEGIN:VEVENT
DTSTART;VALUE=DATE:20080222
DTEND;VALUE=DATE:20080223
TRANSP:TRANSPARENT
X-MICROSOFT-CDO-ALLDAYEVENT:TRUE
SUMMARY:Flycasting in the Park
DESCRIPTION:See new and exciting rods and reels - Sage\, Orvis\, Tibor\; snacks by Panini's\; rain or shine
X-ALT-DESC;FMTTYPE=text/html:See new and exciting rods and reels - Sage\, Orvis\, Tibor\; snacks by Panini's\; rain or shine
LOCATION:Beaufort Historic District
UID:e.1212.2242
SEQUENCE:3
DTSTAMP:20260425T005739Z
URL:https://business.beaufortchamber.org/events/details/flycasting-in-the-park-02-22-2008-2242
END:VEVENT

END:VCALENDAR
