BEGIN:VCALENDAR
VERSION:2.0
PRODID:-//ChamberMaster//Event Calendar 2.0//EN
METHOD:PUBLISH
X-PUBLISHED-TTL:P3D
REFRESH-INTERVAL:P3D
CALSCALE:GREGORIAN
BEGIN:VEVENT
DTSTART;VALUE=DATE:20081007
DTEND;VALUE=DATE:20081008
TRANSP:TRANSPARENT
X-MICROSOFT-CDO-ALLDAYEVENT:TRUE
SUMMARY:Free Conference for Employers
DESCRIPTION:Free conference helping South Carolina business's grow.  The keynote speaker will be LTC Steven Shugart and he will share information on employing returning veterans.  Attorney William Floyd will answer legal questions regarding hiring someone with a disability. \n\n The conference is being held at the Columbia Conference Center. \n\n Registration is required to attend so please visit http://www.employerconference.scvrd.net. \n\n The deadline for registration is 9.29.08.
X-ALT-DESC;FMTTYPE=text/html:Free conference helping South Carolina business's grow.  The keynote speaker will be LTC Steven Shugart and he will share information on employing returning veterans.  Attorney William Floyd will answer legal questions regarding hiring someone with a disability. <BR><BR> The conference is being held at the Columbia Conference Center. <BR><BR> Registration is required to attend so please visit http://www.employerconference.scvrd.net. <BR><BR> The deadline for registration is 9.29.08.
LOCATION:
UID:e.1212.2664
SEQUENCE:3
DTSTAMP:20260425T145746Z
URL:https://business.beaufortchamber.org/events/details/free-conference-for-employers-10-07-2008-2664
END:VEVENT

END:VCALENDAR
