BEGIN:VCALENDAR
VERSION:2.0
PRODID:-//ChamberMaster//Event Calendar 2.0//EN
METHOD:PUBLISH
X-PUBLISHED-TTL:P3D
REFRESH-INTERVAL:P3D
CALSCALE:GREGORIAN
BEGIN:VEVENT
DTSTART;VALUE=DATE:20080921
DTEND;VALUE=DATE:20080922
TRANSP:TRANSPARENT
X-MICROSOFT-CDO-ALLDAYEVENT:TRUE
SUMMARY:Friends of the Beaufort County Library
DESCRIPTION:Book sale offers hundreds of paperbacks and hardbacks as well as CD's\, books on tape\, and a silent auction with numerous literary treasures.
X-ALT-DESC;FMTTYPE=text/html:Book sale offers hundreds of paperbacks and hardbacks as well as CD's\, books on tape\, and a silent auction with numerous literary treasures.
LOCATION:
UID:e.1212.2658
SEQUENCE:3
DTSTAMP:20260425T122658Z
URL:https://business.beaufortchamber.org/events/details/friends-of-the-beaufort-county-library-09-21-2008-2658
END:VEVENT

END:VCALENDAR
