BEGIN:VCALENDAR
VERSION:2.0
PRODID:-//ChamberMaster//Event Calendar 2.0//EN
METHOD:PUBLISH
X-PUBLISHED-TTL:P3D
REFRESH-INTERVAL:P3D
CALSCALE:GREGORIAN
BEGIN:VEVENT
DTSTART;VALUE=DATE:20080222
DTEND;VALUE=DATE:20080223
TRANSP:TRANSPARENT
X-MICROSOFT-CDO-ALLDAYEVENT:TRUE
SUMMARY:George Washington Birthday Dinner
DESCRIPTION:Fundraiser for the Historic Beaufort Foundation's Acquisitions Fund
X-ALT-DESC;FMTTYPE=text/html:Fundraiser for the Historic Beaufort Foundation's Acquisitions Fund
LOCATION:Beaufort Historic District
UID:e.1212.1989
SEQUENCE:3
DTSTAMP:20260425T010339Z
URL:https://business.beaufortchamber.org/events/details/george-washington-birthday-dinner-02-22-2008-1989
END:VEVENT

END:VCALENDAR
