BEGIN:VCALENDAR
VERSION:2.0
PRODID:-//ChamberMaster//Event Calendar 2.0//EN
METHOD:PUBLISH
X-PUBLISHED-TTL:P3D
REFRESH-INTERVAL:P3D
CALSCALE:GREGORIAN
BEGIN:VEVENT
DTSTART;VALUE=DATE:20081029
DTEND;VALUE=DATE:20081030
TRANSP:TRANSPARENT
X-MICROSOFT-CDO-ALLDAYEVENT:TRUE
SUMMARY:Ghost Tours of Beaufort
DESCRIPTION:Carriage ($18) and walking ($10) tours through Beaufort's historic district.  Hear local ghost stories.
X-ALT-DESC;FMTTYPE=text/html:Carriage ($18) and walking ($10) tours through Beaufort's historic district.  Hear local ghost stories.
LOCATION:
UID:e.1212.2537
SEQUENCE:3
DTSTAMP:20260425T140015Z
URL:https://business.beaufortchamber.org/events/details/ghost-tours-of-beaufort-10-29-2008-2537
END:VEVENT

END:VCALENDAR
