BEGIN:VCALENDAR
VERSION:2.0
PRODID:-//ChamberMaster//Event Calendar 2.0//EN
METHOD:PUBLISH
X-PUBLISHED-TTL:P3D
REFRESH-INTERVAL:P3D
CALSCALE:GREGORIAN
BEGIN:VEVENT
DTSTART;VALUE=DATE:20081101
DTEND;VALUE=DATE:20081102
TRANSP:TRANSPARENT
X-MICROSOFT-CDO-ALLDAYEVENT:TRUE
SUMMARY:Ghost Tours of Beaufort
DESCRIPTION:Carriage ($18) and Walking ($10) tour through Beaufort's historic district.  Hear local ghost stories.
X-ALT-DESC;FMTTYPE=text/html:Carriage ($18) and Walking ($10) tour through Beaufort's historic district.  Hear local ghost stories.
LOCATION:
UID:e.1212.2707
SEQUENCE:3
DTSTAMP:20260425T160627Z
URL:https://business.beaufortchamber.org/events/details/ghost-tours-of-beaufort-11-01-2008-2707
END:VEVENT

END:VCALENDAR
