BEGIN:VCALENDAR
VERSION:2.0
PRODID:-//ChamberMaster//Event Calendar 2.0//EN
METHOD:PUBLISH
X-PUBLISHED-TTL:P3D
REFRESH-INTERVAL:P3D
CALSCALE:GREGORIAN
BEGIN:VEVENT
DTSTART;VALUE=DATE:20081006
DTEND;VALUE=DATE:20081007
TRANSP:TRANSPARENT
X-MICROSOFT-CDO-ALLDAYEVENT:TRUE
SUMMARY:Girl's Night with Olivia Newton-John
DESCRIPTION:Curves opens its doors to the women of Lady's Island for an aspiring event to raise awareness for breast cancer.  Curves is partnering with Olivia Newton-John and Liv Aid to help women exercise good breast health.  The Liv Aid is an ingenious breast self-exam tool that greatly enhances a woman's ability in detecting early abnormalities.
X-ALT-DESC;FMTTYPE=text/html:Curves opens its doors to the women of Lady's Island for an aspiring event to raise awareness for breast cancer.  Curves is partnering with Olivia Newton-John and Liv Aid to help women exercise good breast health.  The Liv Aid is an ingenious breast self-exam tool that greatly enhances a woman's ability in detecting early abnormalities.
LOCATION:
UID:e.1212.2674
SEQUENCE:3
DTSTAMP:20260425T140129Z
URL:https://business.beaufortchamber.org/events/details/girl-s-night-with-olivia-newton-john-10-06-2008-2674
END:VEVENT

END:VCALENDAR
