BEGIN:VCALENDAR
VERSION:2.0
PRODID:-//ChamberMaster//Event Calendar 2.0//EN
METHOD:PUBLISH
X-PUBLISHED-TTL:P3D
REFRESH-INTERVAL:P3D
CALSCALE:GREGORIAN
BEGIN:VEVENT
DTSTART;VALUE=DATE:20081025
DTEND;VALUE=DATE:20081026
TRANSP:TRANSPARENT
X-MICROSOFT-CDO-ALLDAYEVENT:TRUE
SUMMARY:Grand Opening: Ashton Pointe Apartment Homes
DESCRIPTION:Great door prizes\, raffles and giveaways !  RSVP preferred.
X-ALT-DESC;FMTTYPE=text/html:Great door prizes\, raffles and giveaways !  RSVP preferred.
LOCATION:
UID:e.1212.2769
SEQUENCE:3
DTSTAMP:20260425T135418Z
URL:https://business.beaufortchamber.org/events/details/grand-opening-ashton-pointe-apartment-homes-10-25-2008-2769
END:VEVENT

END:VCALENDAR
