BEGIN:VCALENDAR
VERSION:2.0
PRODID:-//ChamberMaster//Event Calendar 2.0//EN
METHOD:PUBLISH
X-PUBLISHED-TTL:P3D
REFRESH-INTERVAL:P3D
CALSCALE:GREGORIAN
BEGIN:VEVENT
DTSTART:20230908T140000Z
DTEND:20230908T143000Z
X-MICROSOFT-CDO-ALLDAYEVENT:FALSE
SUMMARY:Grand Opening of Whistle Express Car Wash on Lady's IsSland
DESCRIPTION:Join us for a ribbon-cutting ceremony in the Wal-Mart shopping plaza on Lady's Island (Sea Island Pkwy) for the Grand Opening of the Whistle Express car wash
X-ALT-DESC;FMTTYPE=text/html:Join us for a ribbon-cutting ceremony in the Wal-Mart shopping plaza on Lady&#39\;s Island (Sea Island Pkwy) for the Grand Opening of the Whistle Express car wash
LOCATION:
UID:e.1212.13427
SEQUENCE:3
DTSTAMP:20260424T065300Z
URL:https://business.beaufortchamber.org/events/details/grand-opening-of-whistle-express-car-wash-on-lady-s-issland-13427
END:VEVENT

END:VCALENDAR
