BEGIN:VCALENDAR
VERSION:2.0
PRODID:-//ChamberMaster//Event Calendar 2.0//EN
METHOD:PUBLISH
X-PUBLISHED-TTL:P3D
REFRESH-INTERVAL:P3D
CALSCALE:GREGORIAN
BEGIN:VEVENT
DTSTART;VALUE=DATE:20080920
DTEND;VALUE=DATE:20080921
TRANSP:TRANSPARENT
X-MICROSOFT-CDO-ALLDAYEVENT:TRUE
SUMMARY:Grand Opening: Prestige Stone
DESCRIPTION:Open House for Prestige Stone!
X-ALT-DESC;FMTTYPE=text/html:Open House for Prestige Stone!\n
LOCATION:Hardeeville\, SC
UID:e.1212.2687
SEQUENCE:3
DTSTAMP:20260425T122257Z
URL:https://business.beaufortchamber.org/events/details/grand-opening-prestige-stone-09-20-2008-2687
END:VEVENT

END:VCALENDAR
