BEGIN:VCALENDAR
VERSION:2.0
PRODID:-//ChamberMaster//Event Calendar 2.0//EN
METHOD:PUBLISH
X-PUBLISHED-TTL:P3D
REFRESH-INTERVAL:P3D
CALSCALE:GREGORIAN
BEGIN:VEVENT
DTSTART;VALUE=DATE:20081029
DTEND;VALUE=DATE:20081030
TRANSP:TRANSPARENT
X-MICROSOFT-CDO-ALLDAYEVENT:TRUE
SUMMARY:Grand Opening: Profiles
DESCRIPTION:Join us as we welcome one of our newest businesses to Beaufort !  Profiles is a brand new business in the Beaufort Town Center.  Open to the public.  Light refreshments.
X-ALT-DESC;FMTTYPE=text/html:Join us as we welcome one of our newest businesses to Beaufort !  Profiles is a brand new business in the Beaufort Town Center.  Open to the public.  Light refreshments.
LOCATION:Port Royal
UID:e.1212.2739
SEQUENCE:3
DTSTAMP:20260425T135845Z
URL:https://business.beaufortchamber.org/events/details/grand-opening-profiles-10-29-2008-2739
END:VEVENT

END:VCALENDAR
