BEGIN:VCALENDAR
VERSION:2.0
PRODID:-//ChamberMaster//Event Calendar 2.0//EN
METHOD:PUBLISH
X-PUBLISHED-TTL:P3D
REFRESH-INTERVAL:P3D
CALSCALE:GREGORIAN
BEGIN:VEVENT
DTSTART;VALUE=DATE:20080716
DTEND;VALUE=DATE:20080717
TRANSP:TRANSPARENT
X-MICROSOFT-CDO-ALLDAYEVENT:TRUE
SUMMARY:Greendrinks Beaufort Meeting
DESCRIPTION:Brewer’s Brewing Company\, in the Beaufort Town Center\, is proud to announce that they have been chosen as the official meeting place of Greendrinks Beaufort\, the local chapter of a world-wide organization that encourages environmentally conscious people to gather\, discuss and exchange environmentally conscious ideas… while enjoying tasty refreshments. Come learn more.  \n\n Greendrinks will now be meeting every third Wednesday of the month.  The next meeting will is July 16 at 5:30 p.m.
X-ALT-DESC;FMTTYPE=text/html:Brewer’s Brewing Company\, in the Beaufort Town Center\, is proud to announce that they have been chosen as the official meeting place of Greendrinks Beaufort\, the local chapter of a world-wide organization that encourages environmentally conscious people to gather\, discuss and exchange environmentally conscious ideas… while enjoying tasty refreshments. Come learn more.  <BR><BR> Greendrinks will now be meeting every third Wednesday of the month.  The next meeting will is July 16 at 5:30 p.m.
LOCATION:Beaufort
UID:e.1212.2416
SEQUENCE:3
DTSTAMP:20260425T105653Z
URL:https://business.beaufortchamber.org/events/details/greendrinks-beaufort-meeting-07-16-2008-2416
END:VEVENT

END:VCALENDAR
