BEGIN:VCALENDAR
VERSION:2.0
PRODID:-//ChamberMaster//Event Calendar 2.0//EN
METHOD:PUBLISH
X-PUBLISHED-TTL:P3D
REFRESH-INTERVAL:P3D
CALSCALE:GREGORIAN
BEGIN:VEVENT
DTSTART;VALUE=DATE:20080320
DTEND;VALUE=DATE:20080321
TRANSP:TRANSPARENT
X-MICROSOFT-CDO-ALLDAYEVENT:TRUE
SUMMARY:Growing New Farmers for the Lowcountry
DESCRIPTION:Please join American Farmland Trust\, Clemson Extension\, and Lowcountry Local First in a roundtable discussion on how to support new farmers in meeting the growing demand for locally grown foods in the Lowcountry. \n\n\nHear from new farmers\, restaurant owners\, landowners\, lenders\, and service providers on the challenges and opportunities for newcomers in the farming sector.  Help identify needs and find solutions to assure a vibrant local agricultural landscape along the South Carolina coast.
X-ALT-DESC;FMTTYPE=text/html:Please join American Farmland Trust\, Clemson Extension\, and Lowcountry Local First in a roundtable discussion on how to support new farmers in meeting the growing demand for locally grown foods in the Lowcountry. <br><br>\nHear from new farmers\, restaurant owners\, landowners\, lenders\, and service providers on the challenges and opportunities for newcomers in the farming sector.  Help identify needs and find solutions to assure a vibrant local agricultural landscape along the South Carolina coast.\n\n \n\n\n \n\n\n\n\n\n\n
LOCATION:Walterboro\, SC
UID:e.1212.2198
SEQUENCE:3
DTSTAMP:20260425T024806Z
URL:https://business.beaufortchamber.org/events/details/growing-new-farmers-for-the-lowcountry-03-20-2008-2198
END:VEVENT

END:VCALENDAR
