BEGIN:VCALENDAR
VERSION:2.0
PRODID:-//ChamberMaster//Event Calendar 2.0//EN
METHOD:PUBLISH
X-PUBLISHED-TTL:P3D
REFRESH-INTERVAL:P3D
CALSCALE:GREGORIAN
BEGIN:VEVENT
DTSTART;VALUE=DATE:20081021
DTEND;VALUE=DATE:20081022
TRANSP:TRANSPARENT
X-MICROSOFT-CDO-ALLDAYEVENT:TRUE
SUMMARY:Growth Issues Forum
DESCRIPTION:Beaufort and Jasper Counties are experiencing phenomenal growth.  The Lowcountry's highly desirable sense of place and small-town feel has made Beaufort and Jasper Counties among the fastest growing in the state.  \n\nHow do we balance supplying the demand for infrastructure and services while maintaining the quality of life that has drawn so many people here?  What are the best practices that maintain our desirable features while maintaining the infrastructure?  The Beaufort Regional Chamber of Commerce\, the Jasper County Chamber of Commerce and the Homebuilders Association of the Lowcountry will host the Lowcountry Growth Issues Forum on October 21 addressing Sustainability\, Accessibility and emerging trends.\nChamber Members $25  Non Members $50.  RSVP to Blakely WIlliams by Friday\, October 17
X-ALT-DESC;FMTTYPE=text/html:Beaufort and Jasper Counties are experiencing phenomenal growth.  The Lowcountry's highly desirable sense of place and small-town feel has made Beaufort and Jasper Counties among the fastest growing in the state.  \n\nHow do we balance supplying the demand for infrastructure and services while maintaining the quality of life that has drawn so many people here?  What are the best practices that maintain our desirable features while maintaining the infrastructure?  The Beaufort Regional Chamber of Commerce\, the Jasper County Chamber of Commerce and the Homebuilders Association of the Lowcountry will host the Lowcountry Growth Issues Forum on October 21 addressing Sustainability\, Accessibility and emerging trends.\nChamber Members $25  Non Members $50.  RSVP to Blakely WIlliams by Friday\, October 17
LOCATION:Bluffton
UID:e.1212.2698
SEQUENCE:3
DTSTAMP:20260425T134140Z
URL:https://business.beaufortchamber.org/events/details/growth-issues-forum-10-21-2008-2698
END:VEVENT

END:VCALENDAR
