BEGIN:VCALENDAR
VERSION:2.0
PRODID:-//ChamberMaster//Event Calendar 2.0//EN
METHOD:PUBLISH
X-PUBLISHED-TTL:P3D
REFRESH-INTERVAL:P3D
CALSCALE:GREGORIAN
BEGIN:VEVENT
DTSTART;VALUE=DATE:20080212
DTEND;VALUE=DATE:20080213
TRANSP:TRANSPARENT
X-MICROSOFT-CDO-ALLDAYEVENT:TRUE
SUMMARY:Grungeboard Embellishment Class
DESCRIPTION:You will make an assortment of embellishments to use for all your crafting needs.  Reservations required.\nCost:  $27.
X-ALT-DESC;FMTTYPE=text/html:You will make an assortment of embellishments to use for all your crafting needs.  Reservations required.\nCost:  $27.
LOCATION:
UID:e.1212.2165
SEQUENCE:3
DTSTAMP:20260425T022602Z
URL:https://business.beaufortchamber.org/events/details/grungeboard-embellishment-class-02-12-2008-2165
END:VEVENT

END:VCALENDAR
