BEGIN:VCALENDAR
VERSION:2.0
PRODID:-//ChamberMaster//Event Calendar 2.0//EN
METHOD:PUBLISH
X-PUBLISHED-TTL:P3D
REFRESH-INTERVAL:P3D
CALSCALE:GREGORIAN
BEGIN:VEVENT
DTSTART;VALUE=DATE:20081025
DTEND;VALUE=DATE:20081026
TRANSP:TRANSPARENT
X-MICROSOFT-CDO-ALLDAYEVENT:TRUE
SUMMARY:Guild of Beaufort Galleries Art Walk
DESCRIPTION:Enjoy the original work of over 500 artists\, all within walking distance in Historic Downtown Beaufort.
X-ALT-DESC;FMTTYPE=text/html:Enjoy the original work of over 500 artists\, all within walking distance in Historic Downtown Beaufort.
LOCATION:
UID:e.1212.2565
SEQUENCE:3
DTSTAMP:20260425T140049Z
URL:https://business.beaufortchamber.org/events/details/guild-of-beaufort-galleries-art-walk-10-25-2008-2565
END:VEVENT

END:VCALENDAR
