BEGIN:VCALENDAR
VERSION:2.0
PRODID:-//ChamberMaster//Event Calendar 2.0//EN
METHOD:PUBLISH
X-PUBLISHED-TTL:P3D
REFRESH-INTERVAL:P3D
CALSCALE:GREGORIAN
BEGIN:VEVENT
DTSTART;VALUE=DATE:20071208
DTEND;VALUE=DATE:20071209
TRANSP:TRANSPARENT
X-MICROSOFT-CDO-ALLDAYEVENT:TRUE
SUMMARY:Gullah Caribbean Christmas
DESCRIPTION:Buffet\, show & Reggae/Calypso music.  $30 adults and $15 under 18.  Call for more information.
X-ALT-DESC;FMTTYPE=text/html:Buffet\, show & Reggae/Calypso music.  $30 adults and $15 under 18.  Call for more information.
LOCATION:
UID:e.1212.1831
SEQUENCE:3
DTSTAMP:20260424T221443Z
URL:https://business.beaufortchamber.org/events/details/gullah-caribbean-christmas-12-08-2007-1831
END:VEVENT

END:VCALENDAR
