BEGIN:VCALENDAR
VERSION:2.0
PRODID:-//ChamberMaster//Event Calendar 2.0//EN
METHOD:PUBLISH
X-PUBLISHED-TTL:P3D
REFRESH-INTERVAL:P3D
CALSCALE:GREGORIAN
BEGIN:VEVENT
DTSTART;VALUE=DATE:20071220
DTEND;VALUE=DATE:20071221
TRANSP:TRANSPARENT
X-MICROSOFT-CDO-ALLDAYEVENT:TRUE
SUMMARY:Gullah/Geechee Sea Island Coalition Histo-Musical Presentation and Documentary Screening
DESCRIPTION:5:30 - Wi Tings: Gullah/Geechee Living Traditions\, a new histo-musical presentation by Queen Quet\; 6:30 - Bin Ya: There's No Place Like Home\, a documentary that focuses on the numerous Gullah/Geechee villages of Mount Pleasant\, SC and how many of them have been displaced.  ADMISSION: by donation of any amount
X-ALT-DESC;FMTTYPE=text/html:5:30 - <i>Wi Tings: Gullah/Geechee Living Traditions</i>\, a new histo-musical presentation by Queen Quet\; 6:30 - <i>Bin Ya: There's No Place Like Home</i>\, a documentary that focuses on the numerous Gullah/Geechee villages of Mount Pleasant\, SC and how many of them have been displaced.  <i>ADMISSION: by donation of any amount</i>
LOCATION:Charleston\, SC
UID:e.1212.2055
SEQUENCE:3
DTSTAMP:20260424T222247Z
URL:https://business.beaufortchamber.org/events/details/gullah-geechee-sea-island-coalition-histo-musical-presentation-and-documentary-screening-12-20-2007-2055
END:VEVENT

END:VCALENDAR
