BEGIN:VCALENDAR
VERSION:2.0
PRODID:-//ChamberMaster//Event Calendar 2.0//EN
METHOD:PUBLISH
X-PUBLISHED-TTL:P3D
REFRESH-INTERVAL:P3D
CALSCALE:GREGORIAN
BEGIN:VEVENT
DTSTART;VALUE=DATE:20081018
DTEND;VALUE=DATE:20081019
TRANSP:TRANSPARENT
X-MICROSOFT-CDO-ALLDAYEVENT:TRUE
SUMMARY:Habersham Octoberfest
DESCRIPTION:Join us for Habersham's first Octoberfest.  German beer and brats will be the house specialty.  There will also be food from the River Grill Canteen\, 1719 Market and Regatta Pizza.  Free admission\, $10 buys a mug\, 2 beers and a brat.  Buy individually at $3 per beer\, brat or mug.
X-ALT-DESC;FMTTYPE=text/html:Join us for Habersham's first Octoberfest.  German beer and brats will be the house specialty.  There will also be food from the River Grill Canteen\, 1719 Market and Regatta Pizza.  Free admission\, $10 buys a mug\, 2 beers and a brat.  Buy individually at $3 per beer\, brat or mug.
LOCATION:
UID:e.1212.2566
SEQUENCE:3
DTSTAMP:20260425T135146Z
URL:https://business.beaufortchamber.org/events/details/habersham-octoberfest-10-18-2008-2566
END:VEVENT

END:VCALENDAR
