BEGIN:VCALENDAR
VERSION:2.0
PRODID:-//ChamberMaster//Event Calendar 2.0//EN
METHOD:PUBLISH
X-PUBLISHED-TTL:P3D
REFRESH-INTERVAL:P3D
CALSCALE:GREGORIAN
BEGIN:VEVENT
DTSTART:20200221T200000Z
DTEND:20200221T210000Z
X-MICROSOFT-CDO-ALLDAYEVENT:FALSE
SUMMARY:Habersham Slab Party
DESCRIPTION:We are excited to share this new community opening soon in Beaufort\, South Carolina. To celebrate the construction of this project\, we are hosting Habersham Row Slab Party on February 21\, from 3pm - 4pm\, on site in Habersham South Carolina. If you're in the area\, be sure to stop by or watch our account for updates!\n\nWe are super excited to be a part of this picturesque community! Interested in Habersham Row? Give us a call at 843.931.8072 or email us at habershamrow@engagemanagement.com for more information.
X-ALT-DESC;FMTTYPE=text/html:<p style="margin: 6px 0px\; font-family: Helvetica\, Arial\, sans-serif\; color: rgb(28\, 30\, 33)\; font-size: 14px\; background-color: rgb(255\, 255\, 255)\;">We are excited to share this new community opening soon in Beaufort\, South Carolina. To celebrate the construction of this project\, we are hosting&nbsp\;<a class="profileLink" href="https://www.facebook.com/events/443718279848297/?acontext=%7B%22source%22%3A3%2C%22source_newsfeed_story_type%22%3A%22regular%22%2C%22action_history%22%3A%22%5B%7B%5C%22surface%5C%22%3A%5C%22newsfeed%5C%22%2C%5C%22mechanism%5C%22%3A%5C%22feed_story%5C%22%2C%5C%22extra_data%5C%22%3A%5B%5D%7D%5D%22%2C%22has_source%22%3Atrue%7D&amp\;source=3&amp\;source_newsfeed_story_type=regular&amp\;action_history=%5B%7B%22surface%22%3A%22newsfeed%22%2C%22mechanism%22%3A%22feed_story%22%2C%22extra_data%22%3A%5B%5D%7D%5D&amp\;has_source=1&amp\;fref=mentions&amp\;__xts__%5B0%5D=68.ARC6oEfJ0zYjwgLiQFh-UDjPr2j3vT-EJ7tOzB5U2JESZLL1VSac8BSCsKwMZcqUUCyfPr9odf13yH08lFdBp3rd8hqRyX0vo-m-YAODrVJBRarunnAEFqvALpVCii4FiuBNwRZuvV1MJ0ypJ8Coi86ojAYlxsRmFfzmZEzo_dc5LQc14arK9DT56lknJu-pDZGqJQXum5L_-98MWW0HPA4qnuBQsMVPOuplBm1tHADfRW3BBnZiEs_abz1VRrElU-5AIlQjJkByJpO_00tK5ezv5VF5h7UAWJZm6id-qg6sMs7B9kVJ3POmPQBSYKHeVWxRjtwESLXnZkHMeJld9r-WsNIS&amp\;__tn__=K-R" style="color: rgb(56\, 88\, 152)\; cursor: pointer\; text-decoration-line: none\; font-family: inherit\;">Habersham Row Slab Party</a>&nbsp\;on February 21\, from 3pm - 4pm\, on site in&nbsp\;<a class="profileLink" href="https://www.facebook.com/HabershamSC/?fref=mentions&amp\;__xts__%5B0%5D=68.ARC6oEfJ0zYjwgLiQFh-UDjPr2j3vT-EJ7tOzB5U2JESZLL1VSac8BSCsKwMZcqUUCyfPr9odf13yH08lFdBp3rd8hqRyX0vo-m-YAODrVJBRarunnAEFqvALpVCii4FiuBNwRZuvV1MJ0ypJ8Coi86ojAYlxsRmFfzmZEzo_dc5LQc14arK9DT56lknJu-pDZGqJQXum5L_-98MWW0HPA4qnuBQsMVPOuplBm1tHADfRW3BBnZiEs_abz1VRrElU-5AIlQjJkByJpO_00tK5ezv5VF5h7UAWJZm6id-qg6sMs7B9kVJ3POmPQBSYKHeVWxRjtwESLXnZkHMeJld9r-WsNIS&amp\;__tn__=K-R" style="color: rgb(56\, 88\, 152)\; cursor: pointer\; font-family: inherit\; outline: none !important\;">Habersham South Carolina</a>. If you&#39\;re in the area\, be sure to stop by or watch our account for updates!</p>\n\n<p style="margin: 6px 0px 0px\; display: inline\; font-family: Helvetica\, Arial\, sans-serif\; color: rgb(28\, 30\, 33)\; font-size: 14px\; background-color: rgb(255\, 255\, 255)\;">We are super excited to be a part of this picturesque community! Interested in Habersham Row? Give us a call at 843.931.8072 or email us at habershamrow@engagemanagement.com for more information.</p>\n
LOCATION:Habersham Community
UID:e.1212.12497
SEQUENCE:3
DTSTAMP:20260420T165437Z
URL:https://business.beaufortchamber.org/events/details/habersham-slab-party-12497
END:VEVENT

END:VCALENDAR
