BEGIN:VCALENDAR
VERSION:2.0
PRODID:-//ChamberMaster//Event Calendar 2.0//EN
METHOD:PUBLISH
X-PUBLISHED-TTL:P3D
REFRESH-INTERVAL:P3D
CALSCALE:GREGORIAN
BEGIN:VEVENT
DTSTART;VALUE=DATE:20080730
DTEND;VALUE=DATE:20080731
TRANSP:TRANSPARENT
X-MICROSOFT-CDO-ALLDAYEVENT:TRUE
SUMMARY:Hallelujah Singers
DESCRIPTION:Call for information and tickets.
X-ALT-DESC;FMTTYPE=text/html:Call for information and tickets.
LOCATION:Hilton Head Island
UID:e.1212.2586
SEQUENCE:3
DTSTAMP:20260425T105602Z
URL:https://business.beaufortchamber.org/events/details/hallelujah-singers-07-30-2008-2586
END:VEVENT

END:VCALENDAR
